BEGIN:VCALENDAR
VERSION:2.0
PRODID:-//Sandies Baseball Booster Club - ECPv6.15.18//NONSGML v1.0//EN
CALSCALE:GREGORIAN
METHOD:PUBLISH
X-ORIGINAL-URL:https://sandiesbaseball.com
X-WR-CALDESC:Events for Sandies Baseball Booster Club
REFRESH-INTERVAL;VALUE=DURATION:PT1H
X-Robots-Tag:noindex
X-PUBLISHED-TTL:PT1H
BEGIN:VTIMEZONE
TZID:America/Chicago
BEGIN:DAYLIGHT
TZOFFSETFROM:-0600
TZOFFSETTO:-0500
TZNAME:CDT
DTSTART:20250309T080000
END:DAYLIGHT
BEGIN:STANDARD
TZOFFSETFROM:-0500
TZOFFSETTO:-0600
TZNAME:CST
DTSTART:20251102T070000
END:STANDARD
BEGIN:DAYLIGHT
TZOFFSETFROM:-0600
TZOFFSETTO:-0500
TZNAME:CDT
DTSTART:20260308T080000
END:DAYLIGHT
BEGIN:STANDARD
TZOFFSETFROM:-0500
TZOFFSETTO:-0600
TZNAME:CST
DTSTART:20261101T070000
END:STANDARD
BEGIN:DAYLIGHT
TZOFFSETFROM:-0600
TZOFFSETTO:-0500
TZNAME:CDT
DTSTART:20270314T080000
END:DAYLIGHT
BEGIN:STANDARD
TZOFFSETFROM:-0500
TZOFFSETTO:-0600
TZNAME:CST
DTSTART:20271107T070000
END:STANDARD
END:VTIMEZONE
BEGIN:VEVENT
DTSTART;TZID=America/Chicago:20260202T160000
DTEND;TZID=America/Chicago:20260202T180000
DTSTAMP:20260420T053220
CREATED:20241220T165052Z
LAST-MODIFIED:20260115T143208Z
UID:3247-1770048000-1770055200@sandiesbaseball.com
SUMMARY:Scr. JV Gold @ Randall
DESCRIPTION:
URL:https://sandiesbaseball.com/calendar/jv-gold-vs-randall/
LOCATION:Randall High – Baseball Feild\, 9201 Bell St\, Amarillo\, TX\, 79118
CATEGORIES:JV Gold
END:VEVENT
END:VCALENDAR