BEGIN:VCALENDAR
VERSION:2.0
PRODID:-//Sandies Baseball Booster Club - ECPv6.15.18//NONSGML v1.0//EN
CALSCALE:GREGORIAN
METHOD:PUBLISH
X-ORIGINAL-URL:https://sandiesbaseball.com
X-WR-CALDESC:Events for Sandies Baseball Booster Club
REFRESH-INTERVAL;VALUE=DURATION:PT1H
X-Robots-Tag:noindex
X-PUBLISHED-TTL:PT1H
BEGIN:VTIMEZONE
TZID:America/Chicago
BEGIN:DAYLIGHT
TZOFFSETFROM:-0600
TZOFFSETTO:-0500
TZNAME:CDT
DTSTART:20250309T080000
END:DAYLIGHT
BEGIN:STANDARD
TZOFFSETFROM:-0500
TZOFFSETTO:-0600
TZNAME:CST
DTSTART:20251102T070000
END:STANDARD
BEGIN:DAYLIGHT
TZOFFSETFROM:-0600
TZOFFSETTO:-0500
TZNAME:CDT
DTSTART:20260308T080000
END:DAYLIGHT
BEGIN:STANDARD
TZOFFSETFROM:-0500
TZOFFSETTO:-0600
TZNAME:CST
DTSTART:20261101T070000
END:STANDARD
BEGIN:DAYLIGHT
TZOFFSETFROM:-0600
TZOFFSETTO:-0500
TZNAME:CDT
DTSTART:20270314T080000
END:DAYLIGHT
BEGIN:STANDARD
TZOFFSETFROM:-0500
TZOFFSETTO:-0600
TZNAME:CST
DTSTART:20271107T070000
END:STANDARD
END:VTIMEZONE
BEGIN:VTIMEZONE
TZID:America/Chicago
BEGIN:DAYLIGHT
TZOFFSETFROM:-0600
TZOFFSETTO:-0500
TZNAME:CDT
DTSTART:20250309T080000
END:DAYLIGHT
BEGIN:STANDARD
TZOFFSETFROM:-0500
TZOFFSETTO:-0600
TZNAME:CST
DTSTART:20251102T070000
END:STANDARD
BEGIN:DAYLIGHT
TZOFFSETFROM:-0600
TZOFFSETTO:-0500
TZNAME:CDT
DTSTART:20260308T080000
END:DAYLIGHT
BEGIN:STANDARD
TZOFFSETFROM:-0500
TZOFFSETTO:-0600
TZNAME:CST
DTSTART:20261101T070000
END:STANDARD
BEGIN:DAYLIGHT
TZOFFSETFROM:-0600
TZOFFSETTO:-0500
TZNAME:CDT
DTSTART:20270314T080000
END:DAYLIGHT
BEGIN:STANDARD
TZOFFSETFROM:-0500
TZOFFSETTO:-0600
TZNAME:CST
DTSTART:20271107T070000
END:STANDARD
END:VTIMEZONE
BEGIN:VEVENT
DTSTART;TZID=America/Chicago:20260418T110000
DTEND;TZID=America/Chicago:20260418T130000
DTSTAMP:20260422T070902
CREATED:20260102T205823Z
LAST-MODIFIED:20260115T140423Z
UID:3793-1776510000-1776517200@sandiesbaseball.com
SUMMARY:JV Gold @ Randall
DESCRIPTION:
URL:https://sandiesbaseball.com/calendar/jv-gold-randall/
LOCATION:Randall High – Baseball Feild\, 9201 Bell St\, Amarillo\, TX\, 79118
CATEGORIES:JV Gold
END:VEVENT
BEGIN:VEVENT
DTSTART;TZID=America/Chicago:20260416T170000
DTEND;TZID=America/Chicago:20260416T190000
DTSTAMP:20260422T070902
CREATED:20241223T182635Z
LAST-MODIFIED:20260115T140452Z
UID:3381-1776358800-1776366000@sandiesbaseball.com
SUMMARY:JV Gold @ Caprock
DESCRIPTION:
URL:https://sandiesbaseball.com/calendar/jv-gold-at-caprock/
LOCATION:Caprock High School – Baseball Field\, 3000 E 34TH Ave\, Amarillo\, TX\, 79103
CATEGORIES:JV Gold
END:VEVENT
BEGIN:VEVENT
DTSTART;TZID=America/Chicago:20260409T170000
DTEND;TZID=America/Chicago:20260409T190000
DTSTAMP:20260422T070902
CREATED:20241223T180958Z
LAST-MODIFIED:20260115T140728Z
UID:3370-1775754000-1775761200@sandiesbaseball.com
SUMMARY:JV Gold vs Tascosa
DESCRIPTION:
URL:https://sandiesbaseball.com/calendar/jv-gold-at-tascosa/
LOCATION:AHS Sandie Field\, 5300 Winkler Dr\, Amarillo\, TX\, 79119\, United States
CATEGORIES:JV Gold
END:VEVENT
BEGIN:VEVENT
DTSTART;TZID=America/Chicago:20260403T110000
DTEND;TZID=America/Chicago:20260403T153000
DTSTAMP:20260422T070902
CREATED:20241223T174251Z
LAST-MODIFIED:20260115T140915Z
UID:3352-1775214000-1775230200@sandiesbaseball.com
SUMMARY:JV Gold vs Lubbock High DH
DESCRIPTION:
URL:https://sandiesbaseball.com/calendar/jv-gold-at-lubbock-high-dh/
LOCATION:AHS Sandie Field\, 5300 Winkler Dr\, Amarillo\, TX\, 79119\, United States
CATEGORIES:JV Gold
END:VEVENT
BEGIN:VEVENT
DTSTART;TZID=America/Chicago:20260330T170000
DTEND;TZID=America/Chicago:20260330T190000
DTSTAMP:20260422T070902
CREATED:20241223T175658Z
LAST-MODIFIED:20260115T141118Z
UID:3360-1774890000-1774897200@sandiesbaseball.com
SUMMARY:JV Gold @ Tascosa
DESCRIPTION:
URL:https://sandiesbaseball.com/calendar/jv-gold-vs-tascosa/
LOCATION:Tascosa High School – Baseball Field\, 3921 Westlawn Ave\, Amarillo\, TX\, 79102
CATEGORIES:JV Gold
END:VEVENT
BEGIN:VEVENT
DTSTART;TZID=America/Chicago:20260328T130000
DTEND;TZID=America/Chicago:20260328T150000
DTSTAMP:20260422T070902
CREATED:20260102T204335Z
LAST-MODIFIED:20260115T141246Z
UID:3779-1774702800-1774710000@sandiesbaseball.com
SUMMARY:JV Gold @ West Plains
DESCRIPTION:
URL:https://sandiesbaseball.com/calendar/jv-gold-west-plains/
LOCATION:West Plains – Baseball Field\, 10200 Wolf Pack Trail\, Amarillo\, TX\, 79119\, United States
CATEGORIES:JV Gold
END:VEVENT
BEGIN:VEVENT
DTSTART;TZID=America/Chicago:20260326T170000
DTEND;TZID=America/Chicago:20260326T190000
DTSTAMP:20260422T070902
CREATED:20260102T203725Z
LAST-MODIFIED:20260115T141418Z
UID:3776-1774544400-1774551600@sandiesbaseball.com
SUMMARY:JV Gold @ Plainview
DESCRIPTION:
URL:https://sandiesbaseball.com/calendar/jv-gold-plainview/
LOCATION:Plainview High School – Baseball Field\, 2209 W 24TH St\, Plainview\, TX\, 79072
CATEGORIES:JV Gold
END:VEVENT
BEGIN:VEVENT
DTSTART;TZID=America/Chicago:20260321T110000
DTEND;TZID=America/Chicago:20260321T130000
DTSTAMP:20260422T070902
CREATED:20260102T203503Z
LAST-MODIFIED:20260115T141602Z
UID:3774-1774090800-1774098000@sandiesbaseball.com
SUMMARY:JV Gold @ Canyon
DESCRIPTION:
URL:https://sandiesbaseball.com/calendar/jv-gold-canyon/
LOCATION:Canyon High – Baseball Field\, 1808 19th St\, Canyon\, TX\, 79015
CATEGORIES:JV Gold
END:VEVENT
BEGIN:VEVENT
DTSTART;TZID=America/Chicago:20260319T130000
DTEND;TZID=America/Chicago:20260319T150000
DTSTAMP:20260422T070902
CREATED:20241223T160236Z
LAST-MODIFIED:20260115T141741Z
UID:3319-1773925200-1773932400@sandiesbaseball.com
SUMMARY:JV Gold vs Plainview
DESCRIPTION:
URL:https://sandiesbaseball.com/calendar/jv-gold-at-plainview/
LOCATION:AHS Sandie Field\, 5300 Winkler Dr\, Amarillo\, TX\, 79119\, United States
CATEGORIES:JV Gold
END:VEVENT
BEGIN:VEVENT
DTSTART;TZID=America/Chicago:20260318T130000
DTEND;TZID=America/Chicago:20260318T150000
DTSTAMP:20260422T070902
CREATED:20260102T202812Z
LAST-MODIFIED:20260115T141816Z
UID:3769-1773838800-1773846000@sandiesbaseball.com
SUMMARY:JV Gold @ Palo Duro
DESCRIPTION:
URL:https://sandiesbaseball.com/calendar/jv-gold-palo-duro/
LOCATION:Palo Duro High School – Baseball Field\, 1316 N Arthur St\, Amarillo\, TX\, 79107
CATEGORIES:JV Gold
END:VEVENT
BEGIN:VEVENT
DTSTART;TZID=America/Chicago:20260316T130000
DTEND;TZID=America/Chicago:20260316T150000
DTSTAMP:20260422T070902
CREATED:20241223T155738Z
LAST-MODIFIED:20260115T141937Z
UID:3315-1773666000-1773673200@sandiesbaseball.com
SUMMARY:JV Gold vs Palo Duro
DESCRIPTION:
URL:https://sandiesbaseball.com/calendar/jv-gold-at-palo-duro/
LOCATION:AHS Sandie Field\, 5300 Winkler Dr\, Amarillo\, TX\, 79119\, United States
CATEGORIES:JV Gold
END:VEVENT
BEGIN:VEVENT
DTSTART;TZID=America/Chicago:20260314T120000
DTEND;TZID=America/Chicago:20260314T140000
DTSTAMP:20260422T070902
CREATED:20260102T201936Z
LAST-MODIFIED:20260115T142058Z
UID:3760-1773489600-1773496800@sandiesbaseball.com
SUMMARY:JV Gold @ Bushland
DESCRIPTION:
URL:https://sandiesbaseball.com/calendar/jv-gold-bushland/
LOCATION:Bushland High – Baseball Field\, 1201 S Farm to Market Road 2381\, Bushland\, TX\, 79012\, United States
CATEGORIES:JV Gold
END:VEVENT
BEGIN:VEVENT
DTSTART;TZID=America/Chicago:20260309T170000
DTEND;TZID=America/Chicago:20260309T190000
DTSTAMP:20260422T070902
CREATED:20241223T165055Z
LAST-MODIFIED:20260115T142221Z
UID:3340-1773075600-1773082800@sandiesbaseball.com
SUMMARY:JV Gold vs Coronado
DESCRIPTION:
URL:https://sandiesbaseball.com/calendar/jv-gold-at-coronado/
LOCATION:AHS Sandie Field\, 5300 Winkler Dr\, Amarillo\, TX\, 79119\, United States
CATEGORIES:JV Gold
END:VEVENT
BEGIN:VEVENT
DTSTART;TZID=America/Chicago:20260302T170000
DTEND;TZID=America/Chicago:20260302T190000
DTSTAMP:20260422T070902
CREATED:20241220T190514Z
LAST-MODIFIED:20260115T142417Z
UID:3300-1772470800-1772478000@sandiesbaseball.com
SUMMARY:JV Gold @ Coronado High
DESCRIPTION:
URL:https://sandiesbaseball.com/calendar/jv-gold-vs-coronado-high/
LOCATION:Coronado High – Baseball Field\, 6610 Ave P\, Lubbock\, TX\, 79412
CATEGORIES:JV Gold
END:VEVENT
BEGIN:VEVENT
DTSTART;VALUE=DATE:20260226
DTEND;VALUE=DATE:20260301
DTSTAMP:20260422T070902
CREATED:20241220T185545Z
LAST-MODIFIED:20260115T142603Z
UID:3295-1772064000-1772323199@sandiesbaseball.com
SUMMARY:JV Gold - Lubbock Sub Tourney
DESCRIPTION:
URL:https://sandiesbaseball.com/calendar/jv-gold-lub-sub-tourney/
LOCATION:TBA
CATEGORIES:JV Gold
END:VEVENT
BEGIN:VEVENT
DTSTART;TZID=America/Chicago:20260223T163000
DTEND;TZID=America/Chicago:20260223T183000
DTSTAMP:20260422T070902
CREATED:20241220T183129Z
LAST-MODIFIED:20260102T195045Z
UID:3289-1771864200-1771871400@sandiesbaseball.com
SUMMARY:JV Gold vs Monterey High
DESCRIPTION:
URL:https://sandiesbaseball.com/calendar/jv-gold-at-monterey-high/
LOCATION:AHS Sandie Field\, 5300 Winkler Dr\, Amarillo\, TX\, 79119\, United States
CATEGORIES:JV Gold
END:VEVENT
BEGIN:VEVENT
DTSTART;VALUE=DATE:20260219
DTEND;VALUE=DATE:20260222
DTSTAMP:20260422T070902
CREATED:20241220T181302Z
LAST-MODIFIED:20260102T194810Z
UID:3285-1771459200-1771718399@sandiesbaseball.com
SUMMARY:JV Gold - AISD Sub Tourney
DESCRIPTION:
URL:https://sandiesbaseball.com/calendar/jv-gold-aisd-sub-tourney/
LOCATION:TBA
CATEGORIES:JV Gold
END:VEVENT
BEGIN:VEVENT
DTSTART;TZID=America/Chicago:20260216T170000
DTEND;TZID=America/Chicago:20260216T190000
DTSTAMP:20260422T070902
CREATED:20241220T180436Z
LAST-MODIFIED:20260102T194415Z
UID:3279-1771261200-1771268400@sandiesbaseball.com
SUMMARY:JV Gold @ Monterey High
DESCRIPTION:
URL:https://sandiesbaseball.com/calendar/jv-gold-vs-monterey-high/
LOCATION:Monterey High – Baseball Field\, 6610 Ave L\, Lubbock\, TX\, 79412
CATEGORIES:JV Gold
END:VEVENT
BEGIN:VEVENT
DTSTART;TZID=America/Chicago:20260213T160000
DTEND;TZID=America/Chicago:20260213T180000
DTSTAMP:20260422T070902
CREATED:20241220T175004Z
LAST-MODIFIED:20260115T142812Z
UID:3272-1770998400-1771005600@sandiesbaseball.com
SUMMARY:Scr. JV Gold vs Midland Legacy
DESCRIPTION:
URL:https://sandiesbaseball.com/calendar/scr-jv-gold-at-midland-legacy/
LOCATION:AHS Sandie Field\, 5300 Winkler Dr\, Amarillo\, TX\, 79119\, United States
CATEGORIES:JV Gold
END:VEVENT
BEGIN:VEVENT
DTSTART;TZID=America/Chicago:20260209T163000
DTEND;TZID=America/Chicago:20260209T183000
DTSTAMP:20260422T070902
CREATED:20241220T171341Z
LAST-MODIFIED:20260115T142932Z
UID:3257-1770654600-1770661800@sandiesbaseball.com
SUMMARY:Scr. JV Gold vs Canyon
DESCRIPTION:
URL:https://sandiesbaseball.com/calendar/jv-gold-at-canyon/
LOCATION:AHS Sandie Field\, 5300 Winkler Dr\, Amarillo\, TX\, 79119\, United States
CATEGORIES:JV Gold
END:VEVENT
BEGIN:VEVENT
DTSTART;VALUE=DATE:20260207
DTEND;VALUE=DATE:20260208
DTSTAMP:20260422T070902
CREATED:20241219T142926Z
LAST-MODIFIED:20260115T143018Z
UID:3207-1770422400-1770508799@sandiesbaseball.com
SUMMARY:Longball Competition
DESCRIPTION:Longball Competition \n 
URL:https://sandiesbaseball.com/calendar/longball-competition/
LOCATION:AHS Sandie Field\, 5300 Winkler Dr\, Amarillo\, TX\, 79119\, United States
CATEGORIES:JV Black,JV Gold,Varsity
END:VEVENT
BEGIN:VEVENT
DTSTART;TZID=America/Chicago:20260202T160000
DTEND;TZID=America/Chicago:20260202T180000
DTSTAMP:20260422T070902
CREATED:20241220T165052Z
LAST-MODIFIED:20260115T143208Z
UID:3247-1770048000-1770055200@sandiesbaseball.com
SUMMARY:Scr. JV Gold @ Randall
DESCRIPTION:
URL:https://sandiesbaseball.com/calendar/jv-gold-vs-randall/
LOCATION:Randall High – Baseball Feild\, 9201 Bell St\, Amarillo\, TX\, 79118
CATEGORIES:JV Gold
END:VEVENT
END:VCALENDAR