BEGIN:VCALENDAR
VERSION:2.0
PRODID:-//Sandies Baseball Booster Club - ECPv6.15.18//NONSGML v1.0//EN
CALSCALE:GREGORIAN
METHOD:PUBLISH
X-WR-CALNAME:Sandies Baseball Booster Club
X-ORIGINAL-URL:https://sandiesbaseball.com
X-WR-CALDESC:Events for Sandies Baseball Booster Club
REFRESH-INTERVAL;VALUE=DURATION:PT1H
X-Robots-Tag:noindex
X-PUBLISHED-TTL:PT1H
BEGIN:VTIMEZONE
TZID:America/Chicago
BEGIN:DAYLIGHT
TZOFFSETFROM:-0600
TZOFFSETTO:-0500
TZNAME:CDT
DTSTART:20250309T080000
END:DAYLIGHT
BEGIN:STANDARD
TZOFFSETFROM:-0500
TZOFFSETTO:-0600
TZNAME:CST
DTSTART:20251102T070000
END:STANDARD
BEGIN:DAYLIGHT
TZOFFSETFROM:-0600
TZOFFSETTO:-0500
TZNAME:CDT
DTSTART:20260308T080000
END:DAYLIGHT
BEGIN:STANDARD
TZOFFSETFROM:-0500
TZOFFSETTO:-0600
TZNAME:CST
DTSTART:20261101T070000
END:STANDARD
BEGIN:DAYLIGHT
TZOFFSETFROM:-0600
TZOFFSETTO:-0500
TZNAME:CDT
DTSTART:20270314T080000
END:DAYLIGHT
BEGIN:STANDARD
TZOFFSETFROM:-0500
TZOFFSETTO:-0600
TZNAME:CST
DTSTART:20271107T070000
END:STANDARD
END:VTIMEZONE
BEGIN:VEVENT
DTSTART;TZID=America/Chicago:20260314T130000
DTEND;TZID=America/Chicago:20260314T150000
DTSTAMP:20260420T091013
CREATED:20241223T182155Z
LAST-MODIFIED:20260115T142035Z
UID:3376-1773493200-1773500400@sandiesbaseball.com
SUMMARY:Varsity vs Frenship
DESCRIPTION:At Hodgetown
URL:https://sandiesbaseball.com/calendar/varsity-vs-frenship/
LOCATION:Hodgetown Staduim\, 715 S Buchanan St\, Amarillo\, TX\, 79101
CATEGORIES:Varsity
END:VEVENT
END:VCALENDAR